BEGIN:VCALENDAR
VERSION:2.0
CALSCALE:GREGORIAN
PRODID:Sportnet.sk
METHOD:PUBLISH
X-PUBLISHED-TTL:PT1H
BEGIN:VEVENT
UID:tvprogram-cal:69e8b8496f1478274448a9c7
SUMMARY:Arena Sport 2: SL Benfica - Moreirense
DTSTAMP:20260315T134300Z
DTSTART:20260425T170000Z
DTEND:20260425T190000Z
DESCRIPTION:Futbal\, Portugalsko\, 31. kolo
END:VEVENT
END:VCALENDAR
