BEGIN:VCALENDAR
VERSION:2.0
CALSCALE:GREGORIAN
PRODID:Sportnet.sk
METHOD:PUBLISH
X-PUBLISHED-TTL:PT1H
BEGIN:VEVENT
UID:tvprogram-cal:69e8b8496f1478274448a9bb
SUMMARY:Arena Sport 1: AVS - Sporting CP
DTSTAMP:20260315T134300Z
DTSTART:20260426T193000Z
DTEND:20260426T213000Z
DESCRIPTION:Futbal\, Portugalsko\, 31. kolo
END:VEVENT
END:VCALENDAR
