BEGIN:VCALENDAR
VERSION:2.0
CALSCALE:GREGORIAN
PRODID:Sportnet.sk
METHOD:PUBLISH
X-PUBLISHED-TTL:PT1H
BEGIN:VEVENT
UID:tvprogram-cal:69e8b8496f1478274448a9b7
SUMMARY:Arena Sport 1: Estrela Amadora - FC Porto
DTSTAMP:20260315T134300Z
DTSTART:20260426T170000Z
DTEND:20260426T190000Z
DESCRIPTION:Futbal\, Portugalsko\, 31. kolo
END:VEVENT
END:VCALENDAR
