BEGIN:VCALENDAR
VERSION:2.0
CALSCALE:GREGORIAN
PRODID:Sportnet.sk
METHOD:PUBLISH
X-PUBLISHED-TTL:PT1H
BEGIN:VEVENT
UID:tvprogram-cal:69e8b8496f1478274448a92c
SUMMARY:Nova Sport 2: Turnaj
DTSTAMP:20260315T134300Z
DTSTART:20260425T190000Z
DTEND:20260425T213500Z
DESCRIPTION:Šípky\, MS ČR
END:VEVENT
END:VCALENDAR
