BEGIN:VCALENDAR
VERSION:2.0
CALSCALE:GREGORIAN
PRODID:Sportnet.sk
METHOD:PUBLISH
X-PUBLISHED-TTL:PT1H
BEGIN:VEVENT
UID:tvprogram-cal:69e880076f14782744eb9b8a
SUMMARY:Joj šport 2: FC Uniao Torreense - AD Fafe
DTSTAMP:20260315T134300Z
DTSTART:20260423T194000Z
DTEND:20260423T214000Z
DESCRIPTION:Futbal\, Portugalsko - pohár\, semifinále - odveta
END:VEVENT
END:VCALENDAR
