BEGIN:VCALENDAR
VERSION:2.0
CALSCALE:GREGORIAN
PRODID:Sportnet.sk
METHOD:PUBLISH
X-PUBLISHED-TTL:PT1H
BEGIN:VEVENT
UID:tvprogram-cal:69e63f7956c12320c3f30a21
SUMMARY:Canal+ Sport 6: Arsenal - Newcastle
DTSTAMP:20260315T134300Z
DTSTART:20260425T162500Z
DTEND:20260425T183500Z
DESCRIPTION:Futbal\, Anglicko\, 34. kolo - player cam
END:VEVENT
END:VCALENDAR
