BEGIN:VCALENDAR
VERSION:2.0
CALSCALE:GREGORIAN
PRODID:Sportnet.sk
METHOD:PUBLISH
X-PUBLISHED-TTL:PT1H
BEGIN:VEVENT
UID:tvprogram-cal:69e63f7956c12320c3f30a11
SUMMARY:Canal+ Sport: Toulouse - Clermont
DTSTAMP:20260315T134300Z
DTSTART:20260426T190000Z
DTEND:20260426T210000Z
DESCRIPTION:Ragby\, Francúzsko
END:VEVENT
END:VCALENDAR
