BEGIN:VCALENDAR
VERSION:2.0
CALSCALE:GREGORIAN
PRODID:Sportnet.sk
METHOD:PUBLISH
X-PUBLISHED-TTL:PT1H
BEGIN:VEVENT
UID:tvprogram-cal:69e5f92a56c12320c36108d2
SUMMARY:Šport: OFK Dynamo Malženice - MFK Zvolen
DTSTAMP:20260315T134300Z
DTSTART:20260426T090500Z
DTEND:20260426T110500Z
DESCRIPTION:Futbal\, II. liga\, 27. kolo
END:VEVENT
END:VCALENDAR
