BEGIN:VCALENDAR
VERSION:2.0
CALSCALE:GREGORIAN
PRODID:Sportnet.sk
METHOD:PUBLISH
X-PUBLISHED-TTL:PT1H
BEGIN:VEVENT
UID:tvprogram-cal:69e3e2cb56c12320c3e0bb5f
SUMMARY:ZDF: FC Bayern Mníchov – FC Barcelona
DTSTAMP:20260315T134300Z
DTSTART:20260425T160000Z
DTEND:20260425T181500Z
DESCRIPTION:Futbal\, Liga majstrov\, semifinále
END:VEVENT
END:VCALENDAR
