BEGIN:VCALENDAR
VERSION:2.0
CALSCALE:GREGORIAN
PRODID:Sportnet.sk
METHOD:PUBLISH
X-PUBLISHED-TTL:PT1H
BEGIN:VEVENT
UID:tvprogram-cal:69e3e2cb56c12320c3e0bb55
SUMMARY:Sporty.tv: Šelmy Brno - VK Dukla Liberec
DTSTAMP:20260315T134300Z
DTSTART:20260423T153000Z
DTEND:20260423T180000Z
DESCRIPTION:Volejbal\, Česko\, finále
END:VEVENT
END:VCALENDAR
