BEGIN:VCALENDAR
VERSION:2.0
CALSCALE:GREGORIAN
PRODID:Sportnet.sk
METHOD:PUBLISH
X-PUBLISHED-TTL:PT1H
BEGIN:VEVENT
UID:tvprogram-cal:69e3e2cb56c12320c3e0bb51
SUMMARY:Sporty.tv: Viborg FF - Brøndby IF
DTSTAMP:20260315T134300Z
DTSTART:20260422T175500Z
DTEND:20260422T202500Z
DESCRIPTION:Futbal\, Dánsko\, 28. kolo
END:VEVENT
END:VCALENDAR
