BEGIN:VCALENDAR
VERSION:2.0
CALSCALE:GREGORIAN
PRODID:Sportnet.sk
METHOD:PUBLISH
X-PUBLISHED-TTL:PT1H
BEGIN:VEVENT
UID:tvprogram-cal:69e3e2cb56c12320c3e0bb4c
SUMMARY:Sporty.tv: KS DevelopRes Rzeszów - PGE Budowlani Łódź
DTSTAMP:20260315T134300Z
DTSTART:20260422T152000Z
DTEND:20260422T175500Z
DESCRIPTION:Volejbal\, Poľsko\, finále
END:VEVENT
END:VCALENDAR
