BEGIN:VCALENDAR
VERSION:2.0
CALSCALE:GREGORIAN
PRODID:Sportnet.sk
METHOD:PUBLISH
X-PUBLISHED-TTL:PT1H
BEGIN:VEVENT
UID:tvprogram-cal:69e3e2cb56c12320c3e0bb49
SUMMARY:Sporty.tv: FC Midtjylland - Aarhus GF
DTSTAMP:20260315T134300Z
DTSTART:20260420T165000Z
DTEND:20260420T192000Z
DESCRIPTION:Futbal\, Dánsko\, 27. kolo
END:VEVENT
END:VCALENDAR
