BEGIN:VCALENDAR
VERSION:2.0
CALSCALE:GREGORIAN
PRODID:Sportnet.sk
METHOD:PUBLISH
X-PUBLISHED-TTL:PT1H
BEGIN:VEVENT
UID:tvprogram-cal:69e3e2cb56c12320c3e0bb47
SUMMARY:Sporty.tv: VK Dukla Liberec - Šelmy Brno
DTSTAMP:20260315T134300Z
DTSTART:20260419T161000Z
DTEND:20260419T190000Z
DESCRIPTION:Volejbal\, Česko\, finále
END:VEVENT
END:VCALENDAR
