BEGIN:VCALENDAR
VERSION:2.0
CALSCALE:GREGORIAN
PRODID:Sportnet.sk
METHOD:PUBLISH
X-PUBLISHED-TTL:PT1H
BEGIN:VEVENT
UID:tvprogram-cal:69e3e2cb56c12320c3e0bb41
SUMMARY:Sporty.tv: Slezský FC Opava - SK Slavia Praha B
DTSTAMP:20260315T134300Z
DTSTART:20260419T134000Z
DTEND:20260419T161000Z
DESCRIPTION:Futbal\, Česko 2\, 24. kolo
END:VEVENT
END:VCALENDAR
