BEGIN:VCALENDAR
VERSION:2.0
CALSCALE:GREGORIAN
PRODID:Sportnet.sk
METHOD:PUBLISH
X-PUBLISHED-TTL:PT1H
BEGIN:VEVENT
UID:tvprogram-cal:69e3e2cb56c12320c3e0ba23
SUMMARY:Nova Sport 2: Los Angeles Kings - Colorado Avalanche
DTSTAMP:20260315T134300Z
DTSTART:20260426T203500Z
DTEND:20260426T232500Z
DESCRIPTION:Ľadový hokej\, NHL\, play-off
END:VEVENT
END:VCALENDAR
