BEGIN:VCALENDAR
VERSION:2.0
CALSCALE:GREGORIAN
PRODID:Sportnet.sk
METHOD:PUBLISH
X-PUBLISHED-TTL:PT1H
BEGIN:VEVENT
UID:tvprogram-cal:69e3e2cb56c12320c3e0b92d
SUMMARY:Golf Channel: Finálové kolo
DTSTAMP:20260315T134300Z
DTSTART:20260426T173000Z
DTEND:20260426T213000Z
DESCRIPTION:Golf\, LPGA Tour
END:VEVENT
END:VCALENDAR
