BEGIN:VCALENDAR
VERSION:2.0
CALSCALE:GREGORIAN
PRODID:Sportnet.sk
METHOD:PUBLISH
X-PUBLISHED-TTL:PT1H
BEGIN:VEVENT
UID:tvprogram-cal:69e3e2cb56c12320c3e0b928
SUMMARY:Golf Channel: Finálové kolo
DTSTAMP:20260315T134300Z
DTSTART:20260426T040000Z
DTEND:20260426T090000Z
DESCRIPTION:Golf\, DP World Tour
END:VEVENT
END:VCALENDAR
