BEGIN:VCALENDAR
VERSION:2.0
CALSCALE:GREGORIAN
PRODID:Sportnet.sk
METHOD:PUBLISH
X-PUBLISHED-TTL:PT1H
BEGIN:VEVENT
UID:tvprogram-cal:69e3d4bb56c12320c3c0a7b8
SUMMARY:Arena Sport 2: ORLEN Wisła Płock - Handball Stal Mielec
DTSTAMP:20260315T134300Z
DTSTART:20260425T140000Z
DTEND:20260425T160000Z
DESCRIPTION:Hádzaná\, Poľsko\, štvrťfinále
END:VEVENT
END:VCALENDAR
