BEGIN:VCALENDAR
VERSION:2.0
CALSCALE:GREGORIAN
PRODID:Sportnet.sk
METHOD:PUBLISH
X-PUBLISHED-TTL:PT1H
BEGIN:VEVENT
UID:tvprogram-cal:69e3d4bb56c12320c3c0a7ab
SUMMARY:Arena Sport 1: SK Rapid - FC Red Bull Salzburg
DTSTAMP:20260315T134300Z
DTSTART:20260426T123000Z
DTEND:20260426T143000Z
DESCRIPTION:Futbal\, Rakúsko\, 29. kolo
END:VEVENT
END:VCALENDAR
