BEGIN:VCALENDAR
VERSION:2.0
CALSCALE:GREGORIAN
PRODID:Sportnet.sk
METHOD:PUBLISH
X-PUBLISHED-TTL:PT1H
BEGIN:VEVENT
UID:tvprogram-cal:69df539b56c12320c3618032
SUMMARY:Canal+ Sport 3: Štvrťfinále
DTSTAMP:20260315T134300Z
DTSTART:20260424T110000Z
DTEND:20260424T130000Z
DESCRIPTION:Padel\, Svetový pohár\, Brusel
END:VEVENT
END:VCALENDAR
