BEGIN:VCALENDAR
VERSION:2.0
CALSCALE:GREGORIAN
PRODID:Sportnet.sk
METHOD:PUBLISH
X-PUBLISHED-TTL:PT1H
BEGIN:VEVENT
UID:tvprogram-cal:69df539b56c12320c3617eac
SUMMARY:Nova Sport 5: HSG Wetzlar - Bergischer HC
DTSTAMP:20260315T134300Z
DTSTART:20260426T125500Z
DTEND:20260426T144000Z
DESCRIPTION:Hádzaná\, Nemecko\, 29. kolo
END:VEVENT
END:VCALENDAR
