BEGIN:VCALENDAR
VERSION:2.0
CALSCALE:GREGORIAN
PRODID:Sportnet.sk
METHOD:PUBLISH
X-PUBLISHED-TTL:PT1H
BEGIN:VEVENT
UID:tvprogram-cal:69df539b56c12320c3617e08
SUMMARY:Nova Sport 2: Chelsea FC - Leeds United
DTSTAMP:20260315T134300Z
DTSTART:20260426T135500Z
DTEND:20260426T160500Z
DESCRIPTION:Futbal\, FA Cup\, semifinále
END:VEVENT
END:VCALENDAR
