BEGIN:VCALENDAR
VERSION:2.0
CALSCALE:GREGORIAN
PRODID:Sportnet.sk
METHOD:PUBLISH
X-PUBLISHED-TTL:PT1H
BEGIN:VEVENT
UID:tvprogram-cal:69df458856c12320c342350d
SUMMARY:voyo.sk: SK Sigma Olomouc - 1.FC Slovácko
DTSTAMP:20260315T134300Z
DTSTART:20260419T103000Z
DTEND:20260419T133000Z
DESCRIPTION:Futbal\, Česko\, 30. kolo
END:VEVENT
END:VCALENDAR
