BEGIN:VCALENDAR
VERSION:2.0
CALSCALE:GREGORIAN
PRODID:Sportnet.sk
METHOD:PUBLISH
X-PUBLISHED-TTL:PT1H
BEGIN:VEVENT
UID:tvprogram-cal:69df458856c12320c3423509
SUMMARY:voyo.sk: FC Viktoria Plzeň - FK Pardubice
DTSTAMP:20260315T134300Z
DTSTART:20260419T163000Z
DTEND:20260419T183000Z
DESCRIPTION:Futbal\, Česko\, 30. kolo
END:VEVENT
END:VCALENDAR
