BEGIN:VCALENDAR
VERSION:2.0
CALSCALE:GREGORIAN
PRODID:Sportnet.sk
METHOD:PUBLISH
X-PUBLISHED-TTL:PT1H
BEGIN:VEVENT
UID:tvprogram-cal:69dbf9ca56c12320c3fd221a
SUMMARY:ORF eins: Moser Medical Graz 99ers – Falkensteiner Pustertal
DTSTAMP:20260315T134300Z
DTSTART:20260419T142500Z
DTEND:20260419T170000Z
DESCRIPTION:Ľadový hokej\, Rakúsko\, finále
END:VEVENT
END:VCALENDAR
