BEGIN:VCALENDAR
VERSION:2.0
CALSCALE:GREGORIAN
PRODID:Sportnet.sk
METHOD:PUBLISH
X-PUBLISHED-TTL:PT1H
BEGIN:VEVENT
UID:tvprogram-cal:69dbf9ca56c12320c3fd2207
SUMMARY:M4 Sport: Preteky
DTSTAMP:20260315T134300Z
DTSTART:20260426T101000Z
DTEND:20260426T141000Z
DESCRIPTION:Cyklistika\, Liège-Bastogne-Liège
END:VEVENT
END:VCALENDAR
