BEGIN:VCALENDAR
VERSION:2.0
CALSCALE:GREGORIAN
PRODID:Sportnet.sk
METHOD:PUBLISH
X-PUBLISHED-TTL:PT1H
BEGIN:VEVENT
UID:tvprogram-cal:69dbf9ca56c12320c3fd21e0
SUMMARY:Sport 2: Finále
DTSTAMP:20260315T134300Z
DTSTART:20260426T180000Z
DTEND:20260426T203000Z
DESCRIPTION:Ľadový hokej\, Švajčiarsko\, play-off
END:VEVENT
END:VCALENDAR
