BEGIN:VCALENDAR
VERSION:2.0
CALSCALE:GREGORIAN
PRODID:Sportnet.sk
METHOD:PUBLISH
X-PUBLISHED-TTL:PT1H
BEGIN:VEVENT
UID:tvprogram-cal:69dbf9ca56c12320c3fd21dc
SUMMARY:Sport 2: IUVENTA Michalovce - Bursa
DTSTAMP:20260315T134300Z
DTSTART:20260426T153000Z
DTEND:20260426T171500Z
DESCRIPTION:Hádzaná\, Európsky pohár
END:VEVENT
END:VCALENDAR
