BEGIN:VCALENDAR
VERSION:2.0
CALSCALE:GREGORIAN
PRODID:Sportnet.sk
METHOD:PUBLISH
X-PUBLISHED-TTL:PT1H
BEGIN:VEVENT
UID:tvprogram-cal:69dbf9ca56c12320c3fd21d4
SUMMARY:Sport 2: Skelleftea - Rogle
DTSTAMP:20260315T134300Z
DTSTART:20260425T131500Z
DTEND:20260425T154500Z
DESCRIPTION:Ľadový hokej\, Švédsko\, finále
END:VEVENT
END:VCALENDAR
