BEGIN:VCALENDAR
VERSION:2.0
CALSCALE:GREGORIAN
PRODID:Sportnet.sk
METHOD:PUBLISH
X-PUBLISHED-TTL:PT1H
BEGIN:VEVENT
UID:tvprogram-cal:69dbf9ca56c12320c3fd2016
SUMMARY:Eurosport 2: 2. etapa
DTSTAMP:20260315T134300Z
DTSTART:20260427T113000Z
DTEND:20260427T133000Z
DESCRIPTION:Cyklistika\, Okolo Turecka
END:VEVENT
END:VCALENDAR
