BEGIN:VCALENDAR
VERSION:2.0
CALSCALE:GREGORIAN
PRODID:Sportnet.sk
METHOD:PUBLISH
X-PUBLISHED-TTL:PT1H
BEGIN:VEVENT
UID:tvprogram-cal:69d9026b56c12320c3cda2b3
SUMMARY:Canal+ Sport 4: Manchester City - Arsenal
DTSTAMP:20260315T134300Z
DTSTART:20260419T152500Z
DTEND:20260419T173500Z
DESCRIPTION:Futbal\, Anglicko\, 33. kolo - datazóna
END:VEVENT
END:VCALENDAR
