BEGIN:VCALENDAR
VERSION:2.0
CALSCALE:GREGORIAN
PRODID:Sportnet.sk
METHOD:PUBLISH
X-PUBLISHED-TTL:PT1H
BEGIN:VEVENT
UID:tvprogram-cal:69d9026b56c12320c3cda2a4
SUMMARY:Canal+ Sport 8: Nottingham - Burnley
DTSTAMP:20260315T134300Z
DTSTART:20260419T125500Z
DTEND:20260419T150500Z
DESCRIPTION:Futbal\, Anglicko\, 33. kolo
END:VEVENT
END:VCALENDAR
