BEGIN:VCALENDAR
VERSION:2.0
CALSCALE:GREGORIAN
PRODID:Sportnet.sk
METHOD:PUBLISH
X-PUBLISHED-TTL:PT1H
BEGIN:VEVENT
UID:tvprogram-cal:69d7e92a56c12320c313b1ad
SUMMARY:Nova Sport 5: Leicester City - Hull City
DTSTAMP:20260315T134300Z
DTSTART:20260421T184000Z
DTEND:20260421T205000Z
DESCRIPTION:Futbal\, Anglicko 2\, 44. kolo
END:VEVENT
END:VCALENDAR
