BEGIN:VCALENDAR
VERSION:2.0
CALSCALE:GREGORIAN
PRODID:Sportnet.sk
METHOD:PUBLISH
X-PUBLISHED-TTL:PT1H
BEGIN:VEVENT
UID:tvprogram-cal:69d7db1a56c12320c3f6eb91
SUMMARY:voyo.sk: Salford City - Bromley FC
DTSTAMP:20260315T134300Z
DTSTART:20260423T185500Z
DTEND:20260423T210500Z
DESCRIPTION:Futbal\, Anglicko 2\, 45. kolo
END:VEVENT
END:VCALENDAR
