BEGIN:VCALENDAR
VERSION:2.0
CALSCALE:GREGORIAN
PRODID:Sportnet.sk
METHOD:PUBLISH
X-PUBLISHED-TTL:PT1H
BEGIN:VEVENT
UID:tvprogram-cal:69d7db1a56c12320c3f6eb5c
SUMMARY:Nova Sport 6: 1. FC Kaiserslautern - Eintracht Braunschweig
DTSTAMP:20260315T134300Z
DTSTART:20260424T162500Z
DTEND:20260424T183500Z
DESCRIPTION:Futbal\, Nemecko 2\, 31. kolo
END:VEVENT
END:VCALENDAR
