BEGIN:VCALENDAR
VERSION:2.0
CALSCALE:GREGORIAN
PRODID:Sportnet.sk
METHOD:PUBLISH
X-PUBLISHED-TTL:PT1H
BEGIN:VEVENT
UID:tvprogram-cal:69d7cd0956c12320c3d9595e
SUMMARY:Eurosport 2: Turnaj
DTSTAMP:20260315T134300Z
DTSTART:20260425T170000Z
DTEND:20260425T220000Z
DESCRIPTION:Golf\, PGA Tour
END:VEVENT
END:VCALENDAR
