BEGIN:VCALENDAR
VERSION:2.0
CALSCALE:GREGORIAN
PRODID:Sportnet.sk
METHOD:PUBLISH
X-PUBLISHED-TTL:PT1H
BEGIN:VEVENT
UID:tvprogram-cal:69d7cd0956c12320c3d95956
SUMMARY:Eurosport 2: Preteky
DTSTAMP:20260315T134300Z
DTSTART:20260425T060000Z
DTEND:20260425T100000Z
DESCRIPTION:Triatlon\, Svetový pohár\, Singapur
END:VEVENT
END:VCALENDAR
