BEGIN:VCALENDAR
VERSION:2.0
CALSCALE:GREGORIAN
PRODID:Sportnet.sk
METHOD:PUBLISH
X-PUBLISHED-TTL:PT1H
BEGIN:VEVENT
UID:tvprogram-cal:69d7cd0956c12320c3d9594c
SUMMARY:Eurosport 2: 5. etapa
DTSTAMP:20260315T134300Z
DTSTART:20260424T113000Z
DTEND:20260424T133000Z
DESCRIPTION:Cyklistika\, Okolo Álp
END:VEVENT
END:VCALENDAR
