BEGIN:VCALENDAR
VERSION:2.0
CALSCALE:GREGORIAN
PRODID:Sportnet.sk
METHOD:PUBLISH
X-PUBLISHED-TTL:PT1H
BEGIN:VEVENT
UID:tvprogram-cal:69d7cd0956c12320c3d958e2
SUMMARY:Eurosport 1: Turnaj
DTSTAMP:20260315T134300Z
DTSTART:20260422T131500Z
DTEND:20260422T163000Z
DESCRIPTION:Snooker\, MS
END:VEVENT
END:VCALENDAR
