BEGIN:VCALENDAR
VERSION:2.0
CALSCALE:GREGORIAN
PRODID:Sportnet.sk
METHOD:PUBLISH
X-PUBLISHED-TTL:PT1H
BEGIN:VEVENT
UID:tvprogram-cal:69d7cd0956c12320c3d958db
SUMMARY:Eurosport 1: Turnaj
DTSTAMP:20260315T134300Z
DTSTART:20260421T173000Z
DTEND:20260421T210000Z
DESCRIPTION:Snooker\, MS
END:VEVENT
END:VCALENDAR
