BEGIN:VCALENDAR
VERSION:2.0
CALSCALE:GREGORIAN
PRODID:Sportnet.sk
METHOD:PUBLISH
X-PUBLISHED-TTL:PT1H
BEGIN:VEVENT
UID:tvprogram-cal:69d402ba56c12320c391853b
SUMMARY:ČT Sport: SK Slavia Praha B - FC Zbrojovka Brno
DTSTAMP:20260315T134300Z
DTSTART:20260426T080500Z
DTEND:20260426T102000Z
DESCRIPTION:Futbal\, Česko 2\, 25. kolo
END:VEVENT
END:VCALENDAR
