BEGIN:VCALENDAR
VERSION:2.0
CALSCALE:GREGORIAN
PRODID:Sportnet.sk
METHOD:PUBLISH
X-PUBLISHED-TTL:PT1H
BEGIN:VEVENT
UID:tvprogram-cal:69d402ba56c12320c3918538
SUMMARY:ČT Sport: Finále
DTSTAMP:20260315T134300Z
DTSTART:20260425T180000Z
DTEND:20260425T200000Z
DESCRIPTION:Hádzaná\, Česko
END:VEVENT
END:VCALENDAR
