BEGIN:VCALENDAR
VERSION:2.0
CALSCALE:GREGORIAN
PRODID:Sportnet.sk
METHOD:PUBLISH
X-PUBLISHED-TTL:PT1H
BEGIN:VEVENT
UID:tvprogram-cal:69d402ba56c12320c3918534
SUMMARY:ČT Sport: Superfinále
DTSTAMP:20260315T134300Z
DTSTART:20260425T151500Z
DTEND:20260425T180000Z
DESCRIPTION:Florbal\, Česko\, Praha
END:VEVENT
END:VCALENDAR
