BEGIN:VCALENDAR
VERSION:2.0
CALSCALE:GREGORIAN
PRODID:Sportnet.sk
METHOD:PUBLISH
X-PUBLISHED-TTL:PT1H
BEGIN:VEVENT
UID:tvprogram-cal:69d402ba56c12320c391852f
SUMMARY:ČT Sport: Nemecko - Česko
DTSTAMP:20260315T134300Z
DTSTART:20260425T100000Z
DTEND:20260425T124000Z
DESCRIPTION:Ľadový hokej\, MS U18
END:VEVENT
END:VCALENDAR
