BEGIN:VCALENDAR
VERSION:2.0
CALSCALE:GREGORIAN
PRODID:Sportnet.sk
METHOD:PUBLISH
X-PUBLISHED-TTL:PT1H
BEGIN:VEVENT
UID:tvprogram-cal:69d402ba56c12320c3918527
SUMMARY:ČT Sport: Česko - Rakúsko
DTSTAMP:20260315T134300Z
DTSTART:20260424T144500Z
DTEND:20260424T173000Z
DESCRIPTION:Ľadový hokej\, Prípravný zápas
END:VEVENT
END:VCALENDAR
