BEGIN:VCALENDAR
VERSION:2.0
CALSCALE:GREGORIAN
PRODID:Sportnet.sk
METHOD:PUBLISH
X-PUBLISHED-TTL:PT1H
BEGIN:VEVENT
UID:tvprogram-cal:69d402ba56c12320c391851b
SUMMARY:ČT Sport: HC Oceláři Třinec - HC Dynamo Pardubice
DTSTAMP:20260315T134300Z
DTSTART:20260422T163000Z
DTEND:20260422T200000Z
DESCRIPTION:Ľadový hokej\, Česko\, finále
END:VEVENT
END:VCALENDAR
