BEGIN:VCALENDAR
VERSION:2.0
CALSCALE:GREGORIAN
PRODID:Sportnet.sk
METHOD:PUBLISH
X-PUBLISHED-TTL:PT1H
BEGIN:VEVENT
UID:tvprogram-cal:69d402ba56c12320c3918516
SUMMARY:ČT Sport: Česko - USA
DTSTAMP:20260315T134300Z
DTSTART:20260422T140000Z
DTEND:20260422T163000Z
DESCRIPTION:Ľadový hokej\, MS U18
END:VEVENT
END:VCALENDAR
