BEGIN:VCALENDAR
VERSION:2.0
CALSCALE:GREGORIAN
PRODID:Sportnet.sk
METHOD:PUBLISH
X-PUBLISHED-TTL:PT1H
BEGIN:VEVENT
UID:tvprogram-cal:69d402ba56c12320c391850e
SUMMARY:ČT Sport: Zápas
DTSTAMP:20260315T134300Z
DTSTART:20260421T145000Z
DTEND:20260421T170000Z
DESCRIPTION:Basketbal\, Česko\, predkolo play-off
END:VEVENT
END:VCALENDAR
