BEGIN:VCALENDAR
VERSION:2.0
CALSCALE:GREGORIAN
PRODID:Sportnet.sk
METHOD:PUBLISH
X-PUBLISHED-TTL:PT1H
BEGIN:VEVENT
UID:tvprogram-cal:69d402ba56c12320c391850d
SUMMARY:ČT Sport: SK Artis Brno - FC Silon Táborsko
DTSTAMP:20260315T134300Z
DTSTART:20260420T145000Z
DTEND:20260420T171000Z
DESCRIPTION:Futbal\, Česko 2\, 24. kolo
END:VEVENT
END:VCALENDAR
